BEGIN:VCALENDAR
VERSION:2.0
PRODID:-//eventon.com NONSGML v1.0//EN
BEGIN:VEVENT
UID:69e70b190f5f3
DTSTAMP:20260421T072857
DTSTART:20260627T140000Z
DTEND:20260627T215000Z
TZID:Europe/Berlin
LOCATION:Philipp-Soldan-Forum Teichweg 3\,  35066 Frankenberg (Eder)
SUMMARY:Semesterabschlusskonzert
DESCRIPTION: Beginn 16:00 UhrEinlass 15:30 Uhr Tickets https://sites.google.com/view/psycho-chor/startseite Info Zweites Konzert um 19:00 Uhr. Es ist so weit: zum Semesterende lädt der Psycho-Chor der FSU Jena wieder zu seinen Abschlusskonzerten ein! Wir freuen uns\,  zum ersten Mal in Hessen zu sein. 🙂Wir wurden eingeladen\,  dort gleich zwei Konzerte geben zu dürfen. Wichtig: Wir sind[..]\nhttps://www.psycho-chor.de/termine/semesterabschlusskonzert-25/
URL:https://www.psycho-chor.de/termine/semesterabschlusskonzert-25/
END:VEVENT
END:VCALENDAR