BEGIN:VCALENDAR
VERSION:2.0
PRODID:-//eventon.com NONSGML v1.0//EN
BEGIN:VEVENT
UID:69e70ac553406
DTSTAMP:20260421T072733
DTSTART:20260704T140000Z
DTEND:20260704T215000Z
TZID:Europe/Berlin
LOCATION:Volksbad Jena Knebelstraße 10\,  07743 Jena
SUMMARY:Semesterabschlusskonzert
DESCRIPTION: Beginn 16:00 UhrEinlass 15:30 Uhr Tickets Gibt es ab Mitte Mai. Info Die Platzwahl ist frei. Zweites Konzert um 19:00 Uhr. Es ist soweit: zum Semesterende lädt der Psycho-Chor der FSU Jena wieder zu seinen Abschlusskonzerten ein!\nhttps://www.psycho-chor.de/termine/semesterabschlusskonzert-24/
URL:https://www.psycho-chor.de/termine/semesterabschlusskonzert-24/
END:VEVENT
END:VCALENDAR