BEGIN:VCALENDAR
VERSION:2.0
PRODID:-//eventon.com NONSGML v1.0//EN
BEGIN:VEVENT
UID:69ed7a9d59051
DTSTAMP:20260426T043821
DTSTART:20260207T091500Z
DTEND:20260207T225000Z
TZID:Europe/Berlin
LOCATION:Aula der Ernst-Abbe-Hochschule Carl-Zeiß-Promenade 2\,  07745 Jena
SUMMARY:Kinderkonzerte
DESCRIPTION: Beginn&nbsp;10:15 (Kinder bis ca. 5 Jahre) bzw. 11:00 (Kinder ab ca. 6 Jahre)Einlass&nbsp;Jeweils ca. 15 Minuten vor Beginn Info&nbsp;Eintritt frei\,  freie Platzwahl10:15 &#8211; 10:45 Uhr: Konzert für Kinder bis ca. 5 Jahre11:00 bis 11:45 Uhr: Konzert für Kinder ab ca. 6 Jahre Liebe Kinder\,  das nächste ganz eigene Chor-Konzert für[..]\nhttps://www.psycho-chor.de/termine/kinderkonzerte-4/
URL:https://www.psycho-chor.de/termine/kinderkonzerte-4/
END:VEVENT
END:VCALENDAR